Package: SemDist Version: 1.32.0 Command: rm -rf SemDist.buildbin-libdir && mkdir SemDist.buildbin-libdir && /Users/biocbuild/BBS/utils/build-universal.sh SemDist_1.32.0.tar.gz /Library/Frameworks/R.framework/Resources/bin/R SemDist.buildbin-libdir StartedAt: 2023-04-18 19:29:07 -0400 (Tue, 18 Apr 2023) EndedAt: 2023-04-18 19:29:43 -0400 (Tue, 18 Apr 2023) EllapsedTime: 35.9 seconds RetCode: 0 Status: OK PackageFile: SemDist_1.32.0.tgz PackageFileSize: 1.988 MiB