Package: RTN Version: 2.22.1 Command: /Library/Frameworks/R.framework/Resources/bin/R CMD INSTALL RTN StartedAt: 2023-04-16 18:46:30 -0400 (Sun, 16 Apr 2023) EndedAt: 2023-04-16 18:47:23 -0400 (Sun, 16 Apr 2023) EllapsedTime: 53.1 seconds RetCode: 0 Status: OK