Package: RESOLVE Version: 1.0.0 Command: rm -rf RESOLVE.buildbin-libdir && mkdir RESOLVE.buildbin-libdir && /Users/biocbuild/BBS/utils/build-universal.sh RESOLVE_1.0.0.tar.gz /Library/Frameworks/R.framework/Resources/bin/R RESOLVE.buildbin-libdir StartedAt: 2023-04-18 18:45:11 -0400 (Tue, 18 Apr 2023) EndedAt: 2023-04-18 18:46:47 -0400 (Tue, 18 Apr 2023) EllapsedTime: 96.3 seconds RetCode: 0 Status: OK PackageFile: RESOLVE_1.0.0.tgz PackageFileSize: 830.9 KiB