Package: MLSeq Version: 2.16.0 Command: /Library/Frameworks/R.framework/Resources/bin/R CMD build --keep-empty-dirs --no-resave-data MLSeq StartedAt: 2023-04-17 16:02:41 -0400 (Mon, 17 Apr 2023) EndedAt: 2023-04-17 16:04:56 -0400 (Mon, 17 Apr 2023) EllapsedTime: 135.0 seconds RetCode: 0 Status: OK PackageFile: MLSeq_2.16.0.tar.gz PackageFileSize: 584.8 KiB