Package: MLSeq Version: 2.16.0 Command: rm -rf MLSeq.buildbin-libdir && mkdir MLSeq.buildbin-libdir && /Users/biocbuild/BBS/utils/build-universal.sh MLSeq_2.16.0.tar.gz /Library/Frameworks/R.framework/Resources/bin/R MLSeq.buildbin-libdir StartedAt: 2023-04-18 17:25:25 -0400 (Tue, 18 Apr 2023) EndedAt: 2023-04-18 17:28:04 -0400 (Tue, 18 Apr 2023) EllapsedTime: 159.3 seconds RetCode: 0 Status: OK PackageFile: MLSeq_2.16.0.tgz PackageFileSize: 1.079 MiB