Package: KBoost Version: 1.6.0 Command: /Library/Frameworks/R.framework/Resources/bin/R CMD build --keep-empty-dirs --no-resave-data KBoost StartedAt: 2023-04-17 12:09:10 -0400 (Mon, 17 Apr 2023) EndedAt: 2023-04-17 12:09:19 -0400 (Mon, 17 Apr 2023) EllapsedTime: 9.7 seconds RetCode: 0 Status: OK PackageFile: KBoost_1.6.0.tar.gz PackageFileSize: 503.9 KiB