Package: ChIPexoQual Version: 1.22.0 Command: rm -rf ChIPexoQual.buildbin-libdir && mkdir ChIPexoQual.buildbin-libdir && /Users/biocbuild/BBS/utils/build-universal.sh ChIPexoQual_1.22.0.tar.gz /Library/Frameworks/R.framework/Resources/bin/R ChIPexoQual.buildbin-libdir StartedAt: 2023-04-18 14:25:05 -0400 (Tue, 18 Apr 2023) EndedAt: 2023-04-18 14:27:08 -0400 (Tue, 18 Apr 2023) EllapsedTime: 123.3 seconds RetCode: 0 Status: OK PackageFile: ChIPexoQual_1.22.0.tgz PackageFileSize: 2.278 MiB