Package: BgeeDB Version: 2.24.0 Command: rm -rf BgeeDB.buildbin-libdir && mkdir BgeeDB.buildbin-libdir && /Users/biocbuild/BBS/utils/build-universal.sh BgeeDB_2.24.0.tar.gz /Library/Frameworks/R.framework/Resources/bin/R BgeeDB.buildbin-libdir StartedAt: 2023-04-18 13:52:46 -0400 (Tue, 18 Apr 2023) EndedAt: 2023-04-18 13:53:41 -0400 (Tue, 18 Apr 2023) EllapsedTime: 55.3 seconds RetCode: 0 Status: OK PackageFile: BgeeDB_2.24.0.tgz PackageFileSize: 333.1 KiB