Package: AIMS Version: 1.30.0 Command: /Library/Frameworks/R.framework/Resources/bin/R CMD build --keep-empty-dirs --no-resave-data AIMS StartedAt: 2023-04-16 19:28:07 -0400 (Sun, 16 Apr 2023) EndedAt: 2023-04-16 19:28:26 -0400 (Sun, 16 Apr 2023) EllapsedTime: 18.8 seconds RetCode: 0 Status: OK PackageFile: AIMS_1.30.0.tar.gz PackageFileSize: 484.2 KiB