git_url: https://git.bioconductor.org/packages/XhybCasneuf git_branch: RELEASE_3_15 git_last_commit: c9b5c73 git_last_commit_date: 2022-04-26 12:57:26 -0400 (Tue, 26 Apr 2022) Package: XhybCasneuf Version: 1.34.0 Maintainer: Tineke Casneuf MaintainerEmail: tine at ebi.ac.uk