Package: qPLEXanalyzer Version: 1.14.1 Command: /home/biocbuild/bbs-3.15-bioc/R/bin/R CMD INSTALL qPLEXanalyzer StartedAt: 2022-10-18 15:31:22 -0400 (Tue, 18 Oct 2022) EndedAt: 2022-10-18 15:31:41 -0400 (Tue, 18 Oct 2022) EllapsedTime: 19.2 seconds RetCode: 0 Status: OK