Package: peakPantheR Version: 1.10.0 Command: F:\biocbuild\bbs-3.15-bioc\R\bin\R.exe CMD INSTALL peakPantheR StartedAt: 2022-10-18 16:01:10 -0400 (Tue, 18 Oct 2022) EndedAt: 2022-10-18 16:02:29 -0400 (Tue, 18 Oct 2022) EllapsedTime: 79.3 seconds RetCode: 0 Status: OK