git_url: https://git.bioconductor.org/packages/lipidr git_branch: RELEASE_3_15 git_last_commit: 6895710 git_last_commit_date: 2022-04-26 11:55:16 -0400 (Tue, 26 Apr 2022) Package: lipidr Version: 2.10.0 Maintainer: Ahmed Mohamed MaintainerEmail: mohamed at kuicr.kyoto-u.ac.jp