Package: hopach Version: 2.56.0 Command: /Library/Frameworks/R.framework/Resources/bin/R CMD build --keep-empty-dirs --no-resave-data hopach StartedAt: 2022-10-18 19:06:07 -0400 (Tue, 18 Oct 2022) EndedAt: 2022-10-18 19:06:58 -0400 (Tue, 18 Oct 2022) EllapsedTime: 50.4 seconds RetCode: 0 Status: OK PackageFile: hopach_2.56.0.tar.gz PackageFileSize: 1.288 MiB