Package: gemini Version: 1.10.0 Command: /Library/Frameworks/R.framework/Resources/bin/R CMD build --keep-empty-dirs --no-resave-data gemini StartedAt: 2022-10-18 18:38:03 -0400 (Tue, 18 Oct 2022) EndedAt: 2022-10-18 18:38:46 -0400 (Tue, 18 Oct 2022) EllapsedTime: 43.1 seconds RetCode: 0 Status: OK PackageFile: gemini_1.10.0.tar.gz PackageFileSize: 4.062 MiB