Package: SIMLR Version: 1.21.0 Command: chmod a+r SIMLR -R && D:\biocbuild\bbs-3.15-bioc\R\bin\R.exe CMD build --keep-empty-dirs --no-resave-data SIMLR StartedAt: 2022-03-17 18:04:51 -0400 (Thu, 17 Mar 2022) EndedAt: 2022-03-17 18:06:44 -0400 (Thu, 17 Mar 2022) EllapsedTime: 112.9 seconds RetCode: 0 Status: OK PackageFile: SIMLR_1.21.0.tar.gz PackageFileSize: 3.519 MiB