git_url: https://git.bioconductor.org/packages/MSnbase git_branch: RELEASE_3_15 git_last_commit: 4f6e576 git_last_commit_date: 2022-04-26 11:07:12 -0400 (Tue, 26 Apr 2022) Package: MSnbase Version: 2.22.0 Maintainer: Laurent Gatto MaintainerEmail: laurent.gatto at uclouvain.be