Package: MEDME Version: 1.56.0 Command: /Library/Frameworks/R.framework/Resources/bin/R CMD build --keep-empty-dirs --no-resave-data MEDME StartedAt: 2022-10-18 19:31:15 -0400 (Tue, 18 Oct 2022) EndedAt: 2022-10-18 19:32:07 -0400 (Tue, 18 Oct 2022) EllapsedTime: 52.2 seconds RetCode: 0 Status: OK PackageFile: MEDME_1.56.0.tar.gz PackageFileSize: 441.8 KiB