Package: MEDME Version: 1.56.0 Command: rm -rf MEDME.buildbin-libdir && mkdir MEDME.buildbin-libdir && /Users/biocbuild/BBS/utils/build-universal.sh MEDME_1.56.0.tar.gz /Library/Frameworks/R.framework/Resources/bin/R MEDME.buildbin-libdir StartedAt: 2022-10-19 10:38:27 -0400 (Wed, 19 Oct 2022) EndedAt: 2022-10-19 10:39:00 -0400 (Wed, 19 Oct 2022) EllapsedTime: 33.5 seconds RetCode: 0 Status: OK PackageFile: MEDME_1.56.0.tgz PackageFileSize: 642.6 KiB