Package: GWASTools Version: 1.41.0 Command: rm -rf GWASTools.buildbin-libdir && mkdir GWASTools.buildbin-libdir && D:\biocbuild\bbs-3.15-bioc\R\bin\R.exe CMD INSTALL --build --library=GWASTools.buildbin-libdir GWASTools_1.41.0.tar.gz StartedAt: 2022-03-17 21:13:37 -0400 (Thu, 17 Mar 2022) EndedAt: 2022-03-17 21:14:51 -0400 (Thu, 17 Mar 2022) EllapsedTime: 73.7 seconds RetCode: 0 Status: OK PackageFile: GWASTools_1.41.0.zip PackageFileSize: 3.146 MiB