Package: GSEAlm Version: 1.56.0 Command: /Library/Frameworks/R.framework/Resources/bin/R CMD build --keep-empty-dirs --no-resave-data GSEAlm StartedAt: 2022-10-18 18:58:32 -0400 (Tue, 18 Oct 2022) EndedAt: 2022-10-18 18:59:56 -0400 (Tue, 18 Oct 2022) EllapsedTime: 84.3 seconds RetCode: 0 Status: OK PackageFile: GSEAlm_1.56.0.tar.gz PackageFileSize: 1.227 MiB