Package: ELMER Version: 2.20.0 Command: /Library/Frameworks/R.framework/Resources/bin/R CMD INSTALL ELMER StartedAt: 2022-10-18 16:32:14 -0400 (Tue, 18 Oct 2022) EndedAt: 2022-10-18 16:33:54 -0400 (Tue, 18 Oct 2022) EllapsedTime: 100.6 seconds RetCode: 0 Status: OK