Package: EGSEA Version: 1.23.0 Command: chmod a+r EGSEA -R && D:\biocbuild\bbs-3.15-bioc\R\bin\R.exe CMD build --keep-empty-dirs --no-resave-data EGSEA StartedAt: 2022-03-17 16:47:36 -0400 (Thu, 17 Mar 2022) EndedAt: 2022-03-17 16:54:28 -0400 (Thu, 17 Mar 2022) EllapsedTime: 411.8 seconds RetCode: 0 Status: OK PackageFile: EGSEA_1.23.0.tar.gz PackageFileSize: 2.001 MiB