Package: ADImpute Version: 1.6.0 Command: rm -rf ADImpute.buildbin-libdir && mkdir ADImpute.buildbin-libdir && F:\biocbuild\bbs-3.15-bioc\R\bin\R.exe CMD INSTALL --build --library=ADImpute.buildbin-libdir ADImpute_1.6.0.tar.gz StartedAt: 2022-10-19 05:29:40 -0400 (Wed, 19 Oct 2022) EndedAt: 2022-10-19 05:30:08 -0400 (Wed, 19 Oct 2022) EllapsedTime: 28.4 seconds RetCode: 0 Status: OK PackageFile: ADImpute_1.6.0.zip PackageFileSize: 2.335 MiB