git_url: https://git.bioconductor.org/packages/ABSSeq git_branch: RELEASE_3_15 git_last_commit: 4f384d0 git_last_commit_date: 2022-04-26 11:18:32 -0400 (Tue, 26 Apr 2022) Package: ABSSeq Version: 1.50.0 Maintainer: Wentao Yang MaintainerEmail: wyang at zoologie.uni-kiel.de