git_url: https://git.bioconductor.org/packages/pcxnData git_branch: RELEASE_3_14 git_last_commit: 515a682 git_last_commit_date: 2021-10-26 12:29:42 -0400 (Tue, 26 Oct 2021) Package: pcxnData Version: 2.16.0 Maintainer: Sokratis Kariotis MaintainerEmail: s.kariotis at sheffield.ac.uk