Package: zlibbioc Version: 1.40.0 Command: /Library/Frameworks/R.framework/Resources/bin/R CMD check --install=check:zlibbioc.install-out.txt --library=/Library/Frameworks/R.framework/Resources/library --no-vignettes --timings zlibbioc_1.40.0.tar.gz StartedAt: 2022-04-12 20:04:08 -0400 (Tue, 12 Apr 2022) EndedAt: 2022-04-12 20:04:34 -0400 (Tue, 12 Apr 2022) EllapsedTime: 26.7 seconds RetCode: 0 Status: OK CheckDir: zlibbioc.Rcheck Warnings: 0