git_url: https://git.bioconductor.org/packages/tweeDEseq git_branch: RELEASE_3_14 git_last_commit: ef3a739 git_last_commit_date: 2021-10-26 12:01:13 -0400 (Tue, 26 Oct 2021) Package: tweeDEseq Version: 1.40.0 Maintainer: Juan R Gonzalez MaintainerEmail: jrgonzalez at creal.cat