Package: normalize450K Version: 1.22.0 Command: /home/biocbuild/bbs-3.14-bioc/R/bin/R CMD check --install=check:normalize450K.install-out.txt --library=/home/biocbuild/bbs-3.14-bioc/R/library --no-vignettes --timings normalize450K_1.22.0.tar.gz StartedAt: 2022-04-12 08:29:26 -0400 (Tue, 12 Apr 2022) EndedAt: 2022-04-12 08:29:54 -0400 (Tue, 12 Apr 2022) EllapsedTime: 28.0 seconds RetCode: 0 Status: OK CheckDir: normalize450K.Rcheck Warnings: 0