Package: iSEE Version: 2.6.0 Command: rm -rf iSEE.buildbin-libdir && mkdir iSEE.buildbin-libdir && /Users/biocbuild/BBS/utils/build-universal.sh iSEE_2.6.0.tar.gz /Library/Frameworks/R.framework/Resources/bin/R iSEE.buildbin-libdir StartedAt: 2022-04-12 20:55:03 -0400 (Tue, 12 Apr 2022) EndedAt: 2022-04-12 20:56:26 -0400 (Tue, 12 Apr 2022) EllapsedTime: 83.5 seconds RetCode: 0 Status: OK PackageFile: iSEE_2.6.0.tgz PackageFileSize: 18.64 MiB