Package: globaltest Version: 5.48.0 Command: /Library/Frameworks/R.framework/Resources/bin/R CMD build --keep-empty-dirs --no-resave-data globaltest StartedAt: 2022-04-12 06:20:04 -0400 (Tue, 12 Apr 2022) EndedAt: 2022-04-12 06:24:34 -0400 (Tue, 12 Apr 2022) EllapsedTime: 269.5 seconds RetCode: 0 Status: OK PackageFile: globaltest_5.48.0.tar.gz PackageFileSize: 547 KiB