Package: epigraHMM Version: 1.2.2 Command: C:\cygwin\bin\curl.exe -O http://155.52.207.166/BBS/3.14/bioc/src/contrib/epigraHMM_1.2.2.tar.gz && rm -rf epigraHMM.buildbin-libdir && mkdir epigraHMM.buildbin-libdir && C:\Users\biocbuild\bbs-3.14-bioc\R\bin\R.exe CMD INSTALL --merge-multiarch --build --library=epigraHMM.buildbin-libdir epigraHMM_1.2.2.tar.gz && C:\Users\biocbuild\bbs-3.14-bioc\R\bin\R.exe CMD INSTALL epigraHMM_1.2.2.zip && rm epigraHMM_1.2.2.tar.gz epigraHMM_1.2.2.zip StartedAt: 2022-04-12 07:21:57 -0400 (Tue, 12 Apr 2022) EndedAt: 2022-04-12 07:27:57 -0400 (Tue, 12 Apr 2022) EllapsedTime: 360.3 seconds RetCode: 0 Status: OK