Package: TFEA.ChIP Version: 1.14.0 Command: rm -rf TFEA.ChIP.buildbin-libdir && mkdir TFEA.ChIP.buildbin-libdir && /Users/biocbuild/BBS/utils/build-universal.sh TFEA.ChIP_1.14.0.tar.gz /Library/Frameworks/R.framework/Resources/bin/R TFEA.ChIP.buildbin-libdir StartedAt: 2022-04-12 21:36:04 -0400 (Tue, 12 Apr 2022) EndedAt: 2022-04-12 21:37:09 -0400 (Tue, 12 Apr 2022) EllapsedTime: 64.2 seconds RetCode: 0 Status: OK PackageFile: TFEA.ChIP_1.14.0.tgz PackageFileSize: 3.92 MiB