Package: SpeCond Version: 1.48.0 Command: C:\cygwin\bin\curl.exe -O http://155.52.207.166/BBS/3.14/bioc/src/contrib/SpeCond_1.48.0.tar.gz && rm -rf SpeCond.buildbin-libdir && mkdir SpeCond.buildbin-libdir && C:\Users\biocbuild\bbs-3.14-bioc\R\bin\R.exe CMD INSTALL --merge-multiarch --build --library=SpeCond.buildbin-libdir SpeCond_1.48.0.tar.gz && C:\Users\biocbuild\bbs-3.14-bioc\R\bin\R.exe CMD INSTALL SpeCond_1.48.0.zip && rm SpeCond_1.48.0.tar.gz SpeCond_1.48.0.zip StartedAt: 2022-04-12 05:14:55 -0400 (Tue, 12 Apr 2022) EndedAt: 2022-04-12 05:15:41 -0400 (Tue, 12 Apr 2022) EllapsedTime: 46.2 seconds RetCode: 0 Status: OK