Package: SPEM Version: 1.34.0 Command: /home/biocbuild/bbs-3.14-bioc/R/bin/R CMD build --keep-empty-dirs --no-resave-data SPEM StartedAt: 2022-04-12 06:00:35 -0400 (Tue, 12 Apr 2022) EndedAt: 2022-04-12 06:00:42 -0400 (Tue, 12 Apr 2022) EllapsedTime: 7.3 seconds RetCode: 0 Status: OK PackageFile: SPEM_1.34.0.tar.gz PackageFileSize: 486.8 KiB