git_url: https://git.bioconductor.org/packages/chipseqDB
git_branch: RELEASE_3_13
git_last_commit: fc87a71
git_last_commit_date: 2021-05-19 11:18:55 -0400 (Wed, 19 May 2021)
Package: chipseqDB
Version: 1.16.0
Maintainer: Aaron Lun
MaintainerEmail: infinite.monkeys.with.keyboards at gmail.com