Package: tartare Version: 1.6.0 Command: /home/biocbuild/bbs-3.13-bioc/R/bin/R CMD build --keep-empty-dirs --no-resave-data tartare StartedAt: 2021-10-16 12:40:20 -0400 (Sat, 16 Oct 2021) EndedAt: 2021-10-16 12:40:43 -0400 (Sat, 16 Oct 2021) EllapsedTime: 23.6 seconds RetCode: 0 Status: OK PackageFile: tartare_1.6.0.tar.gz PackageFileSize: 233.7 KiB