git_url: https://git.bioconductor.org/packages/kidpack git_branch: RELEASE_3_13 git_last_commit: 21667d6 git_last_commit_date: 2021-05-19 11:25:26 -0400 (Wed, 19 May 2021) Package: kidpack Version: 1.34.0 Maintainer: Wolfgang Huber MaintainerEmail: huber at ebi.ac.uk