Package: RUVnormalizeData Version: 1.12.0 Command: /home/biocbuild/bbs-3.13-bioc/R/bin/R CMD build --keep-empty-dirs --no-resave-data RUVnormalizeData StartedAt: 2021-10-16 12:32:44 -0400 (Sat, 16 Oct 2021) EndedAt: 2021-10-16 12:32:52 -0400 (Sat, 16 Oct 2021) EllapsedTime: 8.3 seconds RetCode: 0 Status: OK PackageFile: RUVnormalizeData_1.12.0.tar.gz PackageFileSize: 7.744 MiB