git_url: https://git.bioconductor.org/packages/OMICsPCAdata git_branch: RELEASE_3_13 git_last_commit: e5f0199 git_last_commit_date: 2021-05-19 12:06:09 -0400 (Wed, 19 May 2021) Package: OMICsPCAdata Version: 1.10.0 Maintainer: Subhadeep Das MaintainerEmail: subhadeep1024 at gmail.com