Package: Iyer517 Version: 1.34.0 Command: /home/biocbuild/bbs-3.13-bioc/R/bin/R CMD build --keep-empty-dirs --no-resave-data Iyer517 StartedAt: 2021-10-16 12:15:17 -0400 (Sat, 16 Oct 2021) EndedAt: 2021-10-16 12:15:25 -0400 (Sat, 16 Oct 2021) EllapsedTime: 7.2 seconds RetCode: 0 Status: OK PackageFile: Iyer517_1.34.0.tar.gz PackageFileSize: 248.4 KiB