Package: ChIPexoQualExample Version: 1.16.1 Command: /home/biocbuild/bbs-3.13-bioc/R/bin/R CMD check --install=check:ChIPexoQualExample.install-out.txt --library=/home/biocbuild/bbs-3.13-bioc/R/library --no-vignettes --timings ChIPexoQualExample_1.16.1.tar.gz StartedAt: 2021-10-16 12:56:26 -0400 (Sat, 16 Oct 2021) EndedAt: 2021-10-16 12:56:44 -0400 (Sat, 16 Oct 2021) EllapsedTime: 18.3 seconds RetCode: 0 Status: OK CheckDir: ChIPexoQualExample.Rcheck Warnings: 0