Back to Long Tests report for BioC 3.11

Long Tests report for BioC 3.11

Results for beachmat

This page was generated on 2020-10-10 17:30:03 -0400 (Sat, 10 Oct 2020).

Package 2/7HostnameOS / ArchCHECK
beachmat 2.4.0
Aaron Lun
Snapshot Date: 2020-10-10 09:00:02 -0400 (Sat, 10 Oct 2020)
URL: https://git.bioconductor.org/packages/beachmat
Branch: RELEASE_3_11
Last Commit: f8ee009
Last Changed Date: 2020-04-27 15:08:50 -0400 (Mon, 27 Apr 2020)
malbec2 Linux (Ubuntu 18.04.4 LTS) / x86_64  OK 
tokay2 Windows Server 2012 R2 Standard / x64  ERROR 
machv2 macOS 10.14.6 Mojave / x86_64  OK